BEGIN:VCALENDAR
VERSION:2.0
PRODID:-//Sabre//Sabre VObject 4.5.8//EN
CALSCALE:GREGORIAN
BEGIN:VTIMEZONE
TZID:Europe/Zurich
X-LIC-LOCATION:Europe/Zurich
TZURL:http://tzurl.org/zoneinfo/Europe/Zurich
BEGIN:DAYLIGHT
TZOFFSETFROM:+0100
TZOFFSETTO:+0200
TZNAME:CEST
DTSTART:19810329T020000
RRULE:FREQ=YEARLY;BYMONTH=3;BYDAY=-1SU
END:DAYLIGHT
BEGIN:STANDARD
TZOFFSETFROM:+0200
TZOFFSETTO:+0100
TZNAME:CET
DTSTART:19961027T030000
RRULE:FREQ=YEARLY;BYMONTH=10;BYDAY=-1SU
END:STANDARD
END:VTIMEZONE
BEGIN:VEVENT
UID:news356@italianistik.philhist.unibas.ch
DTSTAMP;TZID=Europe/Zurich:20260424T104550
DTSTART;TZID=Europe/Zurich:20260430T101500
SUMMARY:“Tu scriverai conciso\, chiaro\, composto” La limpidezza ragion
 evole di Primo Levi
DESCRIPTION:Nell’ambito dei seminari “Ma cosa vuol dire scrivere sempli
 ce? Riflessioni tra scrittura letteraria e scrittura comunicativa” (Prof
 . Dr. A. Ferrari) e “Linguistica e didattica della scrittura per la scuo
 la secondaria” (M.A. G. Tonani).
X-ALT-DESC:<p>Nell’ambito dei seminari “Ma cosa vuol dire scrivere semp
 lice? Riflessioni tra scrittura letteraria e scrittura comunicativa” (Pr
 of. Dr. A. Ferrari) e “Linguistica e didattica della scrittura per la sc
 uola secondaria” (M.A. G. Tonani).</p>
DTEND;TZID=Europe/Zurich:20260430T120000
END:VEVENT
END:VCALENDAR
